BEGIN:VCALENDAR
VERSION:2.0
PRODID:-ABConcerts-events
METHOD:PUBLISH
BEGIN:VEVENT
TRANSP:OPAQUE
DTSTART:20230208T190000
DTEND:20230208T223000
SUMMARY:First Aid Kit
LOCATION:AB Grote zaal (Anspachlaan 110\, 1000 Brussel)
DESCRIPTION:Inspirerende folk met country/americana ritmes en\nhartverwarmende pop
URL;VALUE=URI:https://www.abconcerts.be/nl/agenda/first-aid-kit/a105J000007YcqZQAS
UID:ABConcerts_event_2168db14-292d-11ed-8437-5254eb761bff
SEQUENCE:0
DTSTAMP:20260421T131334Z
END:VEVENT
END:VCALENDAR
