BEGIN:VCALENDAR
VERSION:2.0
PRODID:-ABConcerts-events
METHOD:PUBLISH
BEGIN:VEVENT
TRANSP:OPAQUE
DTSTART:20140429T190000
DTEND:20140429T223000
SUMMARY:Finale Rockrace 2014
LOCATION:AB Club - staand (Anspachlaan 110\, 1000 Brussel)
DESCRIPTION:Finale van dé rockwedstrijd voor de Brusselse studenten
URL;VALUE=URI:https://www.abconcerts.be/nl/agenda/finale-rockrace-2014/a105J000001weCvQAI
UID:ABConcerts_event_a5032b54-59a0-11eb-a01b-5254eb761bff
SEQUENCE:0
DTSTAMP:20260422T225905Z
END:VEVENT
END:VCALENDAR
