BEGIN:VCALENDAR
VERSION:2.0
PRODID:-ABConcerts-events
METHOD:PUBLISH
BEGIN:VEVENT
TRANSP:OPAQUE
DTSTART:20160607T200000
DTEND:20160607T223000
SUMMARY:Explosions In The Sky
LOCATION:AB Grote zaal (Anspachlaan 110\, 1000 Brussel)
DESCRIPTION:Texaans postrockgeweld serveert 6de plaat ‘The\nWilderness’
URL;VALUE=URI:https://www.abconcerts.be/nl/agenda/explosions-in-the-sky/a105J000001wdWgQAI
UID:ABConcerts_event_aff7ee3e-599e-11eb-a359-5254eb761bff
SEQUENCE:0
DTSTAMP:20260423T194933Z
END:VEVENT
END:VCALENDAR
