BEGIN:VCALENDAR
VERSION:2.0
PRODID:-ABConcerts-events
METHOD:PUBLISH
BEGIN:VEVENT
TRANSP:OPAQUE
DTSTART:20221126T170000
DTEND:20221126T223000
SUMMARY:Eluveitie Amorphis
LOCATION:AB Ballroom (Anspachlaan 110\, 1000 Brussel)
DESCRIPTION:Mix van melodieuze death metal en traditionele Keltische\nmuziek
URL;VALUE=URI:https://www.abconcerts.be/nl/agenda/eluveitie-amorphis/a105J000005I5grQAC
UID:ABConcerts_event_2c5c86a2-af74-11ec-a15d-5254eb761bff
SEQUENCE:0
DTSTAMP:20260422T105922Z
END:VEVENT
END:VCALENDAR
