BEGIN:VCALENDAR
VERSION:2.0
PRODID:-ABConcerts-events
METHOD:PUBLISH
BEGIN:VEVENT
TRANSP:OPAQUE
DTSTART:20130928T200000
DTEND:20130928T223000
SUMMARY:Ed Kowalczyk + Astronaute
LOCATION:AB Flex (Anspachlaan 110\, 1000 Brussel)
DESCRIPTION:Live frontman\, solo project!
URL;VALUE=URI:https://www.abconcerts.be/nl/agenda/ed-kowalczyk-astronaute/a105J000001wgqhQAA
UID:ABConcerts_event_200aa422-59a0-11eb-bc22-5254eb761bff
SEQUENCE:0
DTSTAMP:20260420T000836Z
END:VEVENT
END:VCALENDAR
