BEGIN:VCALENDAR
VERSION:2.0
PRODID:-ABConcerts-events
METHOD:PUBLISH
BEGIN:VEVENT
TRANSP:OPAQUE
DTSTART:20161126T200000
DTEND:20161126T220000
SUMMARY:Echo Collective plays 'Amnesiac' (Radiohead)
LOCATION:AB Salon - zittend (Steenstraat 11\, 1000 Brussel)
DESCRIPTION:Radiohead’s ‘Amnesiac’ (radicaal) klassiek herwerkt
URL;VALUE=URI:https://www.abconcerts.be/nl/agenda/echo-collective-plays-amnesiac-radiohead/a105J000001wdTgQAI
UID:ABConcerts_event_a704a996-59a0-11eb-9f0a-5254eb761bff
SEQUENCE:0
DTSTAMP:20260423T105822Z
END:VEVENT
END:VCALENDAR
