BEGIN:VCALENDAR
VERSION:2.0
PRODID:-ABConcerts-events
METHOD:PUBLISH
BEGIN:VEVENT
TRANSP:OPAQUE
DTSTART:20170118T200000
DTEND:20170118T220000
SUMMARY:Echo Collective plays 'Amnesiac' (Radiohead)
LOCATION:AB Salon - zittend (Steenstraat 11\, 1000 Brussel)
DESCRIPTION:Radiohead’s ‘Amnesiac’ (radicaal) klassiek herwerkt
URL;VALUE=URI:https://www.abconcerts.be/nl/agenda/echo-collective-plays-amnesiac-radiohead/a105J000001wdTfQAI
UID:ABConcerts_event_a6faf752-59a0-11eb-9cd0-5254eb761bff
SEQUENCE:0
DTSTAMP:20260423T082735Z
END:VEVENT
END:VCALENDAR
