BEGIN:VCALENDAR
VERSION:2.0
PRODID:-ABConcerts-events
METHOD:PUBLISH
BEGIN:VEVENT
TRANSP:OPAQUE
DTSTART:20260426T190000
DTEND:20260426T223000
SUMMARY:Dekker
LOCATION:AB Box (Anspachlaan 110\, 1000 Brussel)
DESCRIPTION:Mysterieuze singer songwriter met opvallend brede hoed
URL;VALUE=URI:https://www.abconcerts.be/nl/agenda/dekker/a10Qw000007WqPIIA0
UID:ABConcerts_event_1f00e291-2dd1-6cb6-aca8-699138b777c8
SEQUENCE:0
DTSTAMP:20260421T205732Z
END:VEVENT
END:VCALENDAR
