BEGIN:VCALENDAR
VERSION:2.0
PRODID:-ABConcerts-events
METHOD:PUBLISH
BEGIN:VEVENT
TRANSP:OPAQUE
DTSTART:20240321T190000
DTEND:20240321T223000
SUMMARY:David Numwami
LOCATION:AB Club - staand (Anspachlaan 110\, 1000 Brussel)
DESCRIPTION:Magische liefdevolle pop
URL;VALUE=URI:https://www.abconcerts.be/nl/agenda/david-numwami/a10Qw000000TjjJIAS
UID:ABConcerts_event_1ee94f07-7ec7-6bb4-90ee-d794fadc7332
SEQUENCE:0
DTSTAMP:20260422T113542Z
END:VEVENT
END:VCALENDAR
