BEGIN:VCALENDAR
VERSION:2.0
PRODID:-ABConcerts-events
METHOD:PUBLISH
BEGIN:VEVENT
TRANSP:OPAQUE
DTSTART:20131220T200000
DTEND:20131220T223000
SUMMARY:Daan - extra concert
LOCATION:AB Grote zaal (Anspachlaan 110\, 1000 Brussel)
DESCRIPTION:Eet voor Daan backstage in de AB tvv Music For Life!   \nMeer info en inschrijvingen via deze link.             \nZoals gewoonlijk kon het idee een nieuw album te maken hem\nenkel bekoren als er een nieuwe richting was\, een\navontuur\, iets wat hij nog nooit eerder had gedaan. Na\nindie\, electro\, rock\, of klassieke intimiteit\, werd\n&#39;t tijd eens terug te keren naar zijn eigen muzikale\nroots.          Ging hij met &#39;Simple&#39; nog op zoek\nnaar de roots van nummers uit zijn eigen repertoire\, voor\n&#39;Le Franc Belge&#39; werden dat de geluiden van zijn\nkindertijd in de jaren &#39;70. De geluiden van Parijs\, het\nFranse chanson en &#39;le cinéma&#39;\, maar evenzeer de\nsound van rammelende rockkelders\, epische westerns &amp;\nrokerige nachtclubs.         &#39;Le Franc Belge&#39; is\ngeen nostalgische ode aan &#39;Days Gone By&#39; geworden.\nNummers als ‘Mes Etats Unis’\, het met sirtaki en hip\nhop flirtende &#39;La Crise&#39; en de losgeslagen eerste\nsingle &#39;Everglades&#39; klinken urgent en tackelen\nhedendaage onderwerpen\, maar zoals steeds met een speelse\nen toch rebelse knipoog. Het barokpoppy &#39;The\nGates&#39;\, en het met paardengehinnik opgevrolijkte\n&#39;Irrelevant&#39; zijn vintage-Daan\, maar dan met breed\nuitwaaierende strijkers en schatterende blazers. Deels in\n&#39;t Frans\, deels in &#39;t Engels.         Tekstueel\ngaat het dieper dan tevoren; het contrast tussen Daan&#39;s\nEngelse teksten en de Franstalige die hij schreef met de\ncineast Thierry Dory\, leveren scherpe contrasten; wild vs\nwijs\, hemel vs hel\, kind vs man\, man vs vrouw\, fantasme\nvs fatalist\, liefde vs lust ...         &#39;Le Franc\nBelge&#39; is niet enkel een tegelijkertijd verrassend\,\navontuurlijk\, logisch vervolg op Daan’s vorige album\,\nmaar nog veel meer een reactie erop.    De akoestisch\nbenadering van &#39;Simple&#39; opent nu complexere nieuwe\ndeuren. Deuren naar torenhoge paleizen van geluid en\nideëen. Nooit tevoren klonk een album van Daan zo groots\,\nepisch en zelfverzekerd.         Isolde Lasoen\n(drums\,percussie en retrofranse backings )\, Jean-François\nAssy (cello)\, en co-producer Jeroen Swinnen (allerlei\ntoetsen)\, kregen versterking van Geoffrey Burton (gitaar)\,\nblazers onder leiding van vaste waarde Jo Hermans \, Jef\nNeve (piano)\, een strijkersorkest\, en dat alles vermengd\nmet de crème de la crème uit de Brusselse jazz en een rits\nintrigerende figuren uit de Karpaten.         Met ‘Le\nFranc Belge’ draaft Daan als de bastaard zoon van Lee\nMarvin en Françoise Hardy doorheen 40 jaar muzikaal erfgoed\nen voegt hij een razend spannend nieuw hoofdstuk toe aan\nzijn eigen muzikale toren van Babel.         Een levendige\nen coole introductie van &#39;How Not To Get Bored By\nLife&#39;.
URL;VALUE=URI:https://www.abconcerts.be/nl/agenda/daan-extra-concert/a105J000001we2uQAA
UID:ABConcerts_event_913c229e-599e-11eb-a7b2-5254eb761bff
SEQUENCE:0
DTSTAMP:20260422T110123Z
END:VEVENT
END:VCALENDAR
