BEGIN:VCALENDAR
VERSION:2.0
PRODID:-ABConcerts-events
METHOD:PUBLISH
BEGIN:VEVENT
TRANSP:OPAQUE
DTSTART:20140502T200000
DTEND:20140502T223000
SUMMARY:Cris Cab
LOCATION:AB Club - staand (Anspachlaan 110\, 1000 Brussel)
DESCRIPTION:Feat. Pharrell? Liar Liar!
URL;VALUE=URI:https://www.abconcerts.be/nl/agenda/cris-cab/a105J000001we3rQAA
UID:ABConcerts_event_898201ca-59a0-11eb-a79d-5254eb761bff
SEQUENCE:0
DTSTAMP:20260423T002522Z
END:VEVENT
END:VCALENDAR
