BEGIN:VCALENDAR
VERSION:2.0
PRODID:-ABConcerts-events
METHOD:PUBLISH
BEGIN:VEVENT
TRANSP:OPAQUE
DTSTART:20141116T200000
DTEND:20141116T223000
SUMMARY:Courtney Barnett
LOCATION:AB Club - staand (Anspachlaan 110\, 1000 Brussel)
DESCRIPTION:Jongste Australische lieveling van de indiescène.
URL;VALUE=URI:https://www.abconcerts.be/nl/agenda/courtney-barnett/a105J000001wguyQAA
UID:ABConcerts_event_37c50cce-59a0-11eb-afa3-5254eb761bff
SEQUENCE:0
DTSTAMP:20260423T090153Z
END:VEVENT
END:VCALENDAR
