BEGIN:VCALENDAR
VERSION:2.0
PRODID:-ABConcerts-events
METHOD:PUBLISH
BEGIN:VEVENT
TRANSP:OPAQUE
DTSTART:20170409T170000
DTEND:20170409T230000
SUMMARY:Consouling Sounds presents Empusae + CHVE + Treha Sektori + 
Barst & Karen Willems + A-Sun Amissa + Medeamaterial (An ope
ra by Lab.oratorium // Innerwoud + Astrid Stockman)
LOCATION:AB Club - staand (Anspachlaan 110\, 1000 Brussel)
DESCRIPTION:BRDCST mini festival met het Gentse Consouling Sounds als\ncurator
URL;VALUE=URI:https://www.abconcerts.be/nl/agenda/consouling-sounds-presents-empusae-chve-treha-sektori-barst-karen-willems-a-sun-amissa-medeamaterial-an-opera-by-laboratorium-innerwoud-astrid-stockman/a105J000001wdQSQAY
UID:ABConcerts_event_a29af6b2-59a0-11eb-9a8f-5254eb761bff
SEQUENCE:0
DTSTAMP:20260421T223057Z
END:VEVENT
END:VCALENDAR
