BEGIN:VCALENDAR
VERSION:2.0
PRODID:-ABConcerts-events
METHOD:PUBLISH
BEGIN:VEVENT
TRANSP:OPAQUE
DTSTART:20250507T190000
DTEND:20250507T223000
SUMMARY:Coke Studio Session: Sad Banana
LOCATION:AB Club - staand (Anspachlaan 110\, 1000 Brussel)
DESCRIPTION:Een plakkerige mix van dadaïsme\, punk\, rap en chanson
URL;VALUE=URI:https://www.abconcerts.be/nl/agenda/coke-studio-session-sad-banana/a10Qw000007sBLrIAM
UID:ABConcerts_event_1eff0653-9baa-66be-b611-fd00c58b3af4
SEQUENCE:0
DTSTAMP:20260420T231759Z
END:VEVENT
END:VCALENDAR
