BEGIN:VCALENDAR
VERSION:2.0
PRODID:-ABConcerts-events
METHOD:PUBLISH
BEGIN:VEVENT
TRANSP:OPAQUE
DTSTART:20260531T190000
DTEND:20260531T223000
SUMMARY:Coke Studio Session: marcel
LOCATION:AB Club - staand (Anspachlaan 110\, 1000 Brussel)
DESCRIPTION:Poelvoordiaanse punkrock uit Wallonië
URL;VALUE=URI:https://www.abconcerts.be/nl/agenda/coke-studio-session-marcel/a10Qw00000Fe2VWIAZ
UID:ABConcerts_event_1f0db771-99fe-6166-9e08-43f672bde36b
SEQUENCE:0
DTSTAMP:20260424T130403Z
END:VEVENT
END:VCALENDAR
