BEGIN:VCALENDAR
VERSION:2.0
PRODID:-ABConcerts-events
METHOD:PUBLISH
BEGIN:VEVENT
TRANSP:OPAQUE
DTSTART:20160514T200000
DTEND:20160514T223000
SUMMARY:Coca-Cola Sessions: Faces On TV + Témé Tan
LOCATION:AB Club - staand (Anspachlaan 110\, 1000 Brussel)
DESCRIPTION:Concert verplaatst naar 27 september 2016!
URL;VALUE=URI:https://www.abconcerts.be/nl/agenda/coca-cola-sessions-faces-on-tv-teme-tan/a105J000001wgxaQAA
UID:ABConcerts_event_d6573228-599f-11eb-8b5f-5254eb761bff
SEQUENCE:0
DTSTAMP:20260421T195031Z
END:VEVENT
END:VCALENDAR
