BEGIN:VCALENDAR
VERSION:2.0
PRODID:-ABConcerts-events
METHOD:PUBLISH
BEGIN:VEVENT
TRANSP:OPAQUE
DTSTART:20160927T200000
DTEND:20160927T223000
SUMMARY:Coca-Cola Sessions: Faces On TV + Oyster Node: New date!
LOCATION:AB Club - staand (Anspachlaan 110\, 1000 Brussel)
DESCRIPTION:Beloftevol Belgisch talent bundelt de elektropop-krachten
URL;VALUE=URI:https://www.abconcerts.be/nl/agenda/coca-cola-sessions-faces-on-tv-oyster-node-new-date/a105J000001wdVbQAI
UID:ABConcerts_event_d5c90e02-59a0-11eb-9491-5254eb761bff
SEQUENCE:0
DTSTAMP:20260421T182226Z
END:VEVENT
END:VCALENDAR
