BEGIN:VCALENDAR
VERSION:2.0
PRODID:-ABConcerts-events
METHOD:PUBLISH
BEGIN:VEVENT
TRANSP:OPAQUE
DTSTART:20160305T200000
DTEND:20160305T223000
SUMMARY:Chris Watson - 'El Tren Fantasma' - Museum Night Fever
LOCATION:Train World (unknown\, 1000 Brussel)
DESCRIPTION:Voorstelling van een prachtige compositie op unieke locatie
URL;VALUE=URI:https://www.abconcerts.be/nl/agenda/chris-watson-el-tren-fantasma-museum-night-fever/a105J000001wdWsQAI
UID:ABConcerts_event_ad63be26-59a0-11eb-8b95-5254eb761bff
SEQUENCE:0
DTSTAMP:20260424T052614Z
END:VEVENT
END:VCALENDAR
