BEGIN:VCALENDAR
VERSION:2.0
PRODID:-ABConcerts-events
METHOD:PUBLISH
BEGIN:VEVENT
TRANSP:OPAQUE
DTSTART:20180307T173000
DTEND:20180307T210000
SUMMARY:Charlotte Cardin early evening show
LOCATION:AB Club - staand (Anspachlaan 110\, 1000 Brussel)
DESCRIPTION:22-jarige zangeres met gouden stem stelt debuut EP voor.
URL;VALUE=URI:https://www.abconcerts.be/nl/agenda/charlotte-cardin-early-evening-show/a105J000001wdI0QAI
UID:ABConcerts_event_706abdd0-59a0-11eb-81cb-5254eb761bff
SEQUENCE:0
DTSTAMP:20260425T234920Z
END:VEVENT
END:VCALENDAR
