BEGIN:VCALENDAR
VERSION:2.0
PRODID:-ABConcerts-events
METHOD:PUBLISH
BEGIN:VEVENT
TRANSP:OPAQUE
DTSTART:20151101T180000
DTEND:20151101T213000
SUMMARY:Chantal Acda presents 'The Sparkle In Our Flaws'
LOCATION:AB Club - staand (Anspachlaan 110\, 1000 Brussel)
DESCRIPTION:Albumpresentatie van Chacda’s broze Duystermuziek
URL;VALUE=URI:https://www.abconcerts.be/nl/agenda/chantal-acda-presents-the-sparkle-in-our-flaws/a105J000001wdanQAA
UID:ABConcerts_event_55bd116e-599f-11eb-bc21-5254eb761bff
SEQUENCE:0
DTSTAMP:20260422T072948Z
END:VEVENT
END:VCALENDAR
