BEGIN:VCALENDAR
VERSION:2.0
PRODID:-ABConcerts-events
METHOD:PUBLISH
BEGIN:VEVENT
TRANSP:OPAQUE
DTSTART:20261211T190000
DTEND:20261211T223000
SUMMARY:Channel Zero
LOCATION:AB Grote zaal (Anspachlaan 110\, 1000 Brussel)
DESCRIPTION:The End of an Era!
URL;VALUE=URI:https://www.abconcerts.be/nl/agenda/channel-zero/a10Qw000003bNiMIAU
UID:ABConcerts_event_1ef91ea8-bd57-6be2-a9bd-e9c69d0d00a2
SEQUENCE:0
DTSTAMP:20260419T194053Z
END:VEVENT
END:VCALENDAR
