BEGIN:VCALENDAR
VERSION:2.0
PRODID:-ABConcerts-events
METHOD:PUBLISH
BEGIN:VEVENT
TRANSP:OPAQUE
DTSTART:20200623T200000
DTEND:20200623T223000
SUMMARY:CANCELLED: Gojira
LOCATION:AB Grote zaal (Anspachlaan 110\, 1000 Brussel)
DESCRIPTION:Naar aanleiding van COVID-19 wordt  het concert\nvan GOJIRA afgelast.  Wij danken je voor jouw begrip.   \nTickets die online zijn aangekocht worden automatisch binnen\nde 30 dagen terug betaald via het betaalmiddel waarmee ze\nzijn aangekocht.  Indien u tickets aangekocht heeft in de\nTicketshop of via Ticketswap\, gelieve een foto van jouw\ntickets te sturen met vermelding van uw rekeningnummer\nnaar info@abconcerts.be.  
URL;VALUE=URI:https://www.abconcerts.be/nl/agenda/cancelled-gojira/a105J000001wd2BQAQ
UID:ABConcerts_event_6165bf34-599f-11eb-bb9e-5254eb761bff
SEQUENCE:0
DTSTAMP:20260425T135139Z
END:VEVENT
END:VCALENDAR
