BEGIN:VCALENDAR
VERSION:2.0
PRODID:-ABConcerts-events
METHOD:PUBLISH
BEGIN:VEVENT
TRANSP:OPAQUE
DTSTART:20110429T200000
DTEND:20110429T223000
SUMMARY:Budam
LOCATION:AB Club - staand (Anspachlaan 110\, 1000 Brussel)
DESCRIPTION:Hij is &#39;Faroeeur&#39; maar tevens &#39;révélation des\nTransmusicales de Rennes&#39; en dat is nog altijd in\nFrankrijk\, waar hij ook geliefd is bij Libération en Fip\nradio. Op zijn eerste cd stond er trouwens op de sticker nog\nte lezen: &#39;A mi-chemin entre Tom Waits et Nick Cave\, un\nartiste hors-norme venu des Iles Féroé&#39;. Jawel\, van\nde Faroer Eilanden\, dus\, ergens boven Schotland\, maar\nvooral een internationaal stralend talent (zoals onze AB\ngezant &#39;ter Faroeeur&#39; onlangs nog kon\nvaststellen)!&#39;Stories Of Devils\, Angels\, Lovers And\nMurderers&#39;\, zijn debuutcd uit 2009 wordt volgend jaar\neindelijk opgevolgd door een nieuwe worp bij Green L.Fant.\nWe verwachten Budam dan ook met pianist Magnus\, drummer\nRogvi en tenslotte nog &#39;Man&#39; zoals die tweede cd zou\nmoeten heten. Een must voor wie ook wel wat intense\ntheatraliteit lust.    Voorprogramma wordt het nogal\nsukkulente lokale 1060 (yep\, zoals de postcode.) Vorig\nnajaar nog aangrijpend als Broodje Brussel in de Music\nVillage. En toen al konden we lezen: &#39;1060 - ten sixty -\nduizendzestig - mille soixante - diez sesenta... Kies zelf\,\nwisselen mag. Postnummer van Sint-Gillis. Codenaam voor\nwereldstadsmuziek van een kosmopolitische groep. Joy Simar\nen Renoar Hadri werken muzikaal samen sinds 2005. Hij houdt\nvan studio’s en was onder meer bassist in de livegroep van\nwijlen Marc Moulin. Zij heeft een blanke pit en een zwarte\nziel. Haar stem is warm en weergaloos. Met: Francis Perez\n(gitaar)\, Patrick Dorcéan (drums)\, Renoar Hadri (bas) en\nJoy (gitaar &amp; zang).&#39;                               \n
URL;VALUE=URI:https://www.abconcerts.be/nl/agenda/budam/a105J000001wgjcQAA
UID:ABConcerts_event_063a3152-59a0-11eb-a444-5254eb761bff
SEQUENCE:0
DTSTAMP:20260423T190103Z
END:VEVENT
END:VCALENDAR
