BEGIN:VCALENDAR
VERSION:2.0
PRODID:-ABConcerts-events
METHOD:PUBLISH
BEGIN:VEVENT
TRANSP:OPAQUE
DTSTART:20170409T160000
DTEND:20170409T223000
SUMMARY:BRDCST: Thundercat + Shobaleader One + Shabaka And The Ances
tors + Yussef Kamaal
LOCATION:AB Grote zaal (Anspachlaan 110\, 1000 Brussel)
DESCRIPTION:BRDCST mini festival met als thema: ‘Is Jazz entering a\nnew Golden Age?’
URL;VALUE=URI:https://www.abconcerts.be/nl/agenda/brdcst-thundercat-shobaleader-one-shabaka-and-the-ancestors-yussef-kamaal/a105J000001wdQVQAY
UID:ABConcerts_event_a360020e-59a0-11eb-81b8-5254eb761bff
SEQUENCE:0
DTSTAMP:20260423T085821Z
END:VEVENT
END:VCALENDAR
