BEGIN:VCALENDAR
VERSION:2.0
PRODID:-ABConcerts-events
METHOD:PUBLISH
BEGIN:VEVENT
TRANSP:OPAQUE
DTSTART:20180407T183000
DTEND:20180407T223000
SUMMARY:BRDCST Artist talk Nadah El Shazly - Nina Power
LOCATION:AB Salon - zittend (Steenstraat 11\, 1000 Brussel)
DESCRIPTION:Nina Power\, editor van The Wire\, in gesprek met....
URL;VALUE=URI:https://www.abconcerts.be/nl/agenda/brdcst-artist-talk-nadah-el-shazly-nina-power/a105J000001wdGKQAY
UID:ABConcerts_event_6e34289e-59a0-11eb-a571-5254eb761bff
SEQUENCE:0
DTSTAMP:20260419T222347Z
END:VEVENT
END:VCALENDAR
