BEGIN:VCALENDAR
VERSION:2.0
PRODID:-ABConcerts-events
METHOD:PUBLISH
BEGIN:VEVENT
TRANSP:OPAQUE
DTSTART:20150222T200000
DTEND:20150222T223000
SUMMARY:Black Label Society
LOCATION:AB Grote zaal (Anspachlaan 110\, 1000 Brussel)
DESCRIPTION:Zakk Wylde’s imposante\, straf groovende heavy metalband!
URL;VALUE=URI:https://www.abconcerts.be/nl/agenda/black-label-society/a105J000001we2JQAQ
UID:ABConcerts_event_eb493054-59a0-11eb-a66f-5254eb761bff
SEQUENCE:0
DTSTAMP:20260423T033929Z
END:VEVENT
END:VCALENDAR
