BEGIN:VCALENDAR
VERSION:2.0
PRODID:-ABConcerts-events
METHOD:PUBLISH
BEGIN:VEVENT
TRANSP:OPAQUE
DTSTART:20160220T200000
DTEND:20160220T223000
SUMMARY:Black Box Revelation
LOCATION:AB Grote zaal (Anspachlaan 110\, 1000 Brussel)
DESCRIPTION:Glorieuze terugkeer van Black Box naar AB!
URL;VALUE=URI:https://www.abconcerts.be/nl/agenda/black-box-revelation/a105J000001wdZLQAY
UID:ABConcerts_event_a0f23190-59a0-11eb-b3f0-5254eb761bff
SEQUENCE:0
DTSTAMP:20260424T074617Z
END:VEVENT
END:VCALENDAR
