BEGIN:VCALENDAR
VERSION:2.0
PRODID:-ABConcerts-events
METHOD:PUBLISH
BEGIN:VEVENT
TRANSP:OPAQUE
DTSTART:20120504T200000
DTEND:20120504T223000
SUMMARY:Birdy Nam Nam
LOCATION:AB Grote zaal (Anspachlaan 110\, 1000 Brussel)
DESCRIPTION:In 2009 laat ‘Manual For Successful Rioting’ de\nmuziekwereld even daveren op haar grondvesten. Nu bevestigt\nBirdy Nam Nam zijn status met opvolger ‘Defiant Order’.\nZoals verwacht weten Crazy B\, Pone\, Need en Lil’Mike\nopnieuw te verrassen met hun derde langspeler. De vier\nmeesters der draaitafels doen beroep op Para One voor de\nproductie met als resultaat een heerlijk onstuimige\nmuziekmix ; een ware genreverzameling doordrenkt van hip\nhop\, R&amp;B\, house en US techno. BBN reageert zich niet\nlanger af op de muziek\, maar maakt er een ware obsessie\nvan. Ze leveren opnieuw een zeldzame en gedurfde plaat af\,\nvolledig passend in hun vernieuwende parcours. Hun eerste\nlangspeler verschijnt in 2005. Na het buitengewone succes\nvan hun tweede album “Manual For Successful Rioting” en\nboeiende samenwerkingen met Yuksek en Justice\, blijft het\nviertal zich profileren als onweerstaanbare\, hoogbegaafde\ntechnici. Ze ruimen alle clichés uit de weg en stijgen\nboven genres uit door hun manier van werken. Ze zien hun\ndraaitafels als volwaardige instrumenten en slagen er ook\neffectief in om ongelofelijke beats en samples uit hun\nvinyls te toveren. Eind deze week maken ze mooi weer op les\nTransardentes. Een avond om naar uit te kijken\, want vooral\nlive komt Birdy Nam Nam volledig tot zijn in recht al zijn\ndimensies. Op vrijdag 4 mei staat het jolige gezelschap in\nde Ancienne Belgique en als we terugkijken naar hun\nfestivalpassages en vorige zaalconcerten\, waaronder een\nlegendarische set in de AB in 2010\, kunnen we ons opnieuw\nverwachten aan een zot en eclectisch feestje.
URL;VALUE=URI:https://www.abconcerts.be/nl/agenda/birdy-nam-nam/a105J000001wdyIQAQ
UID:ABConcerts_event_81cb7baa-59a0-11eb-9a45-5254eb761bff
SEQUENCE:0
DTSTAMP:20260424T112421Z
END:VEVENT
END:VCALENDAR
