BEGIN:VCALENDAR
VERSION:2.0
PRODID:-ABConcerts-events
METHOD:PUBLISH
BEGIN:VEVENT
TRANSP:OPAQUE
DTSTART:20131216T200000
DTEND:20131216T223000
SUMMARY:Biffy Clyro + Walking Papers
LOCATION:AB Grote zaal (Anspachlaan 110\, 1000 Brussel)
DESCRIPTION:AB n°2 dit jaar voor dé liveband van het moment!
URL;VALUE=URI:https://www.abconcerts.be/nl/agenda/biffy-clyro-walking-papers/a105J000001we2zQAA
UID:ABConcerts_event_82218914-59a0-11eb-a677-5254eb761bff
SEQUENCE:0
DTSTAMP:20260420T084644Z
END:VEVENT
END:VCALENDAR
