BEGIN:VCALENDAR
VERSION:2.0
PRODID:-ABConcerts-events
METHOD:PUBLISH
BEGIN:VEVENT
TRANSP:OPAQUE
DTSTART:20151209T200000
DTEND:20151209T223000
SUMMARY:Benjamin Clementine
LOCATION:AB Grote zaal (Anspachlaan 110\, 1000 Brussel)
DESCRIPTION:Soul-revelation\, passionate minimalist
URL;VALUE=URI:https://www.abconcerts.be/nl/agenda/benjamin-clementine/a105J000001wda6QAA
UID:ABConcerts_event_52263e86-599f-11eb-9784-5254eb761bff
SEQUENCE:0
DTSTAMP:20260424T051943Z
END:VEVENT
END:VCALENDAR
