BEGIN:VCALENDAR
VERSION:2.0
PRODID:-ABConcerts-events
METHOD:PUBLISH
BEGIN:VEVENT
TRANSP:OPAQUE
DTSTART:20160430T180000
DTEND:20160430T190000
SUMMARY:Artist talk: SX
LOCATION:AB Salon - zittend (Steenstraat 11\, 1000 Brussel)
DESCRIPTION:SX in gesprek met Kurt Overbergh
URL;VALUE=URI:https://www.abconcerts.be/nl/agenda/artist-talk-sx/a105J000001wdV2QAI
UID:ABConcerts_event_c91697e2-59a0-11eb-b7c7-5254eb761bff
SEQUENCE:0
DTSTAMP:20260423T223930Z
END:VEVENT
END:VCALENDAR
