BEGIN:VCALENDAR
VERSION:2.0
PRODID:-ABConcerts-events
METHOD:PUBLISH
BEGIN:VEVENT
TRANSP:OPAQUE
DTSTART:20151019T180000
DTEND:20151019T184500
SUMMARY:Artist Talk: Son Lux
LOCATION:AB Salon - zittend (Steenstraat 11\, 1000 Brussel)
DESCRIPTION:Gesprek tussen Arne Van Petegem en de band
URL;VALUE=URI:https://www.abconcerts.be/nl/agenda/artist-talk-son-lux/a105J000001wdZ5QAI
UID:ABConcerts_event_9dd1a612-59a0-11eb-8079-5254eb761bff
SEQUENCE:0
DTSTAMP:20260424T013602Z
END:VEVENT
END:VCALENDAR
