BEGIN:VCALENDAR
VERSION:2.0
PRODID:-ABConcerts-events
METHOD:PUBLISH
BEGIN:VEVENT
TRANSP:OPAQUE
DTSTART:20161013T200000
DTEND:20161013T213000
SUMMARY:Artist talk Jozef van Wissem - Colin H. Van Eeckhout - Thoma
s Baeté
LOCATION:AB Salon - zittend (Steenstraat 11\, 1000 Brussel)
DESCRIPTION:Oude muziek\, nieuw verhaal
URL;VALUE=URI:https://www.abconcerts.be/nl/agenda/artist-talk-jozef-van-wissem-colin-h-van-eeckhout-thomas-baete/a105J000001wdSpQAI
UID:ABConcerts_event_9f17d19a-59a0-11eb-ad77-5254eb761bff
SEQUENCE:0
DTSTAMP:20260422T133914Z
END:VEVENT
END:VCALENDAR
