BEGIN:VCALENDAR
VERSION:2.0
PRODID:-ABConcerts-events
METHOD:PUBLISH
BEGIN:VEVENT
TRANSP:OPAQUE
DTSTART:20161020T180000
DTEND:20161020T184500
SUMMARY:Artist talk: Jamie Lidell
LOCATION:AB Salon - zittend (Steenstraat 11\, 1000 Brussel)
DESCRIPTION:Gesprek met deze boeiende artiest
URL;VALUE=URI:https://www.abconcerts.be/nl/agenda/artist-talk-jamie-lidell/a105J000001wdRpQAI
UID:ABConcerts_event_beb843d6-59a0-11eb-8039-5254eb761bff
SEQUENCE:0
DTSTAMP:20260423T152451Z
END:VEVENT
END:VCALENDAR
