BEGIN:VCALENDAR
VERSION:2.0
PRODID:-ABConcerts-events
METHOD:PUBLISH
BEGIN:VEVENT
TRANSP:OPAQUE
DTSTART:20150405T200000
DTEND:20150405T223000
SUMMARY:Arno
LOCATION:AB Grote zaal (Anspachlaan 110\, 1000 Brussel)
DESCRIPTION:Exclusief voorjaarsconcert
URL;VALUE=URI:https://www.abconcerts.be/nl/agenda/arno/a105J000001wdk1QAA
UID:ABConcerts_event_61fe7c8e-599e-11eb-93e1-5254eb761bff
SEQUENCE:0
DTSTAMP:20260423T164645Z
END:VEVENT
END:VCALENDAR
