BEGIN:VCALENDAR
VERSION:2.0
PRODID:-ABConcerts-events
METHOD:PUBLISH
BEGIN:VEVENT
TRANSP:OPAQUE
DTSTART:20180324T200000
DTEND:20180324T223000
SUMMARY:Aquilo
LOCATION:AB Club - staand (Anspachlaan 110\, 1000 Brussel)
DESCRIPTION:Breekbare dreampop doorspekt met subtiele electronica &\nsoulvolle vocals
URL;VALUE=URI:https://www.abconcerts.be/nl/agenda/aquilo/a105J000001wdJWQAY
UID:ABConcerts_event_77d36e78-59a0-11eb-a024-5254eb761bff
SEQUENCE:0
DTSTAMP:20260420T011318Z
END:VEVENT
END:VCALENDAR
