BEGIN:VCALENDAR
VERSION:2.0
PRODID:-ABConcerts-events
METHOD:PUBLISH
BEGIN:VEVENT
TRANSP:OPAQUE
DTSTART:20090423T123000
DTEND:20090423T223000
SUMMARY:Antje De Boeck & Rony Verbiest
LOCATION:AB Salon - zittend (Steenstraat 11\, 1000 Brussel)
DESCRIPTION:Twee opmerkelijke artiesten bouwen een voorstelling met\ntonnen sfeer. De muziek van Rony Verbiest komt uit het café\nachter de hoek\, uit Argentinië of Mongolië\, uit de\njazz\, uit de interbellumstraten van Parijs\, uit moderne\ndansstukken\, uit het\nweg-met-de-gebruikelijke-clichés-land.Daartussen brengt\nAntje De Boeck enkele verhaalfragmenten waar het publiek\nmeteen reekbare een van de vele soorten accordeonmuziek bij\nkan dromen. En bovenop de stukken verhaal en de gedichten\nkrijg je van haar een paar liedjes cadeau. Een voorstelling\nvanuit het hart\, met een juiste dosis kwinkslagen. Een\nprogramma waarin de accordeon met bravoure balanceert tussen\nzijn volkse wortels en de recentere toeëigening door de\nzogenaamde &#39;hoogdrempelige kunsten&#39;.
URL;VALUE=URI:https://www.abconcerts.be/nl/agenda/antje-de-boeck-rony-verbiest/a105J000001wgYMQAY
UID:ABConcerts_event_b2832d84-599f-11eb-b7a6-5254eb761bff
SEQUENCE:0
DTSTAMP:20260419T143301Z
END:VEVENT
END:VCALENDAR
