BEGIN:VCALENDAR
VERSION:2.0
PRODID:-ABConcerts-events
METHOD:PUBLISH
BEGIN:VEVENT
TRANSP:OPAQUE
DTSTART:20170620T200000
DTEND:20170620T223000
SUMMARY:Anderson .Paak & The Free Nationals
LOCATION:AB Grote zaal (Anspachlaan 110\, 1000 Brussel)
DESCRIPTION:Een extra concert voor dé revelatie van vorig jaar!
URL;VALUE=URI:https://www.abconcerts.be/nl/agenda/anderson-paak-the-free-nationals/a105J000001wdOnQAI
UID:ABConcerts_event_8bce2760-59a0-11eb-8f5e-5254eb761bff
SEQUENCE:0
DTSTAMP:20260422T000032Z
END:VEVENT
END:VCALENDAR
