BEGIN:VCALENDAR
VERSION:2.0
PRODID:-ABConcerts-events
METHOD:PUBLISH
BEGIN:VEVENT
TRANSP:OPAQUE
DTSTART:20140504T200000
DTEND:20140504T223000
SUMMARY:Amos Lee (with cut down band) + Mutlu
LOCATION:AB Flex (Anspachlaan 110\, 1000 Brussel)
DESCRIPTION:The fine art of strong songwriting (in Nashville)
URL;VALUE=URI:https://www.abconcerts.be/nl/agenda/amos-lee-with-cut-down-band-mutlu/a105J000001we2ZQAQ
UID:ABConcerts_event_5e64e478-599e-11eb-a6b3-5254eb761bff
SEQUENCE:0
DTSTAMP:20260423T002855Z
END:VEVENT
END:VCALENDAR
