BEGIN:VCALENDAR
VERSION:2.0
PRODID:-ABConcerts-events
METHOD:PUBLISH
BEGIN:VEVENT
TRANSP:OPAQUE
DTSTART:20150215T190000
DTEND:20150215T223000
SUMMARY:All Connected #7- NEW DATE: Peter Beyls – Jenny Gräf – 
screenings Lilian Schwartz films
LOCATION:AB Salon - zittend (Steenstraat 11\, 1000 Brussel)
DESCRIPTION:Nummer 7 in deze boeiende reeks
URL;VALUE=URI:https://www.abconcerts.be/nl/agenda/all-connected-7-new-date-peter-beyls-jenny-graf-screenings-lilian-schwartz-films/a105J000001wdkdQAA
UID:ABConcerts_event_916ca3c2-59a0-11eb-a82a-5254eb761bff
SEQUENCE:0
DTSTAMP:20260419T165338Z
END:VEVENT
END:VCALENDAR
