BEGIN:VCALENDAR
VERSION:2.0
PRODID:-ABConcerts-events
METHOD:PUBLISH
BEGIN:VEVENT
TRANSP:OPAQUE
DTSTART:20180604T200000
DTEND:20180604T223000
SUMMARY:Alexisonfire
LOCATION:AB Grote zaal (Anspachlaan 110\, 1000 Brussel)
DESCRIPTION:Melodieuze post-hardcore na lange tijd weer in België
URL;VALUE=URI:https://www.abconcerts.be/nl/agenda/alexisonfire/a105J000001wdGXQAY
UID:ABConcerts_event_6f4019e6-59a0-11eb-9d76-5254eb761bff
SEQUENCE:0
DTSTAMP:20260419T161730Z
END:VEVENT
END:VCALENDAR
