BEGIN:VCALENDAR
VERSION:2.0
PRODID:-ABConcerts-events
METHOD:PUBLISH
BEGIN:VEVENT
TRANSP:OPAQUE
DTSTART:20150524T200000
DTEND:20150524T223000
SUMMARY:ABClubcircuit - VK @ AB: Pallbearer
LOCATION:AB Club - staand (Anspachlaan 110\, 1000 Brussel)
DESCRIPTION:Grafdragers uit Arkansas blazen doommetal nieuw leven in!
URL;VALUE=URI:https://www.abconcerts.be/nl/agenda/abclubcircuit-vk-ab-pallbearer/a105J000001wdjnQAA
UID:ABConcerts_event_880d02d6-59a0-11eb-ba80-5254eb761bff
SEQUENCE:0
DTSTAMP:20260422T113000Z
END:VEVENT
END:VCALENDAR
