BEGIN:VCALENDAR
VERSION:2.0
PRODID:-ABConcerts-events
METHOD:PUBLISH
BEGIN:VEVENT
TRANSP:OPAQUE
DTSTART:20150425T200000
DTEND:20150425T223000
SUMMARY:ABClubcircuit - De Kreun @ AB: UFOMAMMUT
LOCATION:AB Club - staand (Anspachlaan 110\, 1000 Brussel)
DESCRIPTION:Een rauwe\, brutale hap psychedelische doommetal
URL;VALUE=URI:https://www.abconcerts.be/nl/agenda/abclubcircuit-de-kreun-ab-ufomammut/a105J000001wdk4QAA
UID:ABConcerts_event_8b2a2836-59a0-11eb-a669-5254eb761bff
SEQUENCE:0
DTSTAMP:20260422T133751Z
END:VEVENT
END:VCALENDAR
