BEGIN:VCALENDAR
VERSION:2.0
PRODID:-ABConcerts-events
METHOD:PUBLISH
BEGIN:VEVENT
TRANSP:OPAQUE
DTSTART:20150306T190000
DTEND:20150306T233000
SUMMARY:ABBota 2015 @ AB
LOCATION:AB Complex (Anspachlaan 110\, 1000 Brussel)
DESCRIPTION:Mountain Bike\, The Belgians\, Fùgù Mango\,..
URL;VALUE=URI:https://www.abconcerts.be/nl/agenda/abbota-2015-ab/a105J000001wdkhQAA
UID:ABConcerts_event_ffb790c8-599e-11eb-913d-5254eb761bff
SEQUENCE:0
DTSTAMP:20260421T122000Z
END:VEVENT
END:VCALENDAR
