BEGIN:VCALENDAR
VERSION:2.0
PRODID:-ABConcerts-events
METHOD:PUBLISH
BEGIN:VEVENT
TRANSP:OPAQUE
DTSTART:20191212T190000
DTEND:20191212T233000
SUMMARY:AB40 CURATED BY: Whispering Sons + CTM (DK), Croatian Amor (
DK) & paper hats (B) + dj’s
LOCATION:AB Grote zaal (Anspachlaan 110\, 1000 Brussel)
DESCRIPTION:Glorieuze Afsluiter van een Succulent Jaar voor België’s\nBeste Band
URL;VALUE=URI:https://www.abconcerts.be/nl/agenda/ab40-curated-by-whispering-sons-ctm-dk-croatian-amor-dk-paper-hats-b-djs/a105J000001wd6aQAA
UID:ABConcerts_event_31256018-599f-11eb-92b8-5254eb761bff
SEQUENCE:0
DTSTAMP:20260420T190219Z
END:VEVENT
END:VCALENDAR
