BEGIN:VCALENDAR
VERSION:2.0
PRODID:-ABConcerts-events
METHOD:PUBLISH
BEGIN:VEVENT
TRANSP:OPAQUE
DTSTART:20130506T180000
DTEND:20130506T200000
SUMMARY:A talk with The Gaslamp Killer
LOCATION:AB Salon - zittend (Steenstraat 11\, 1000 Brussel)
DESCRIPTION:Op maandag 6 mei organiseren Poppunt en AB een gesprek met\nThe Gaslamp Killer in Huis 23. De toegang is gratis\, maar\ninschrijven is een must.         The Gaslamp Killer is één\nvan de meest gevierde dj&#39;s van het moment. Deze\nprotégé van beatswizard Flying Lotus scheert\ninternationaal hoge toppen. Inmiddels heeft hij zijn\ndebuutalbum &#39;Breakthrough&#39; uitgebracht\, met\nsamenwerkingen van onder andere Gonjasufi\, Adrian Younge en\nDeadalus. &quot;Een formidabel en meeslepend debuut van de\nCalifornische turntablist&quot;\, aldus de BBC. Denk\neclectische hiphopbeats\, funk\, dub en een stevige dosis\nelektronica.          Kortom\, de ideale gast voor een\nsofagesprek in Huis 23! Over zijn eerste stappen als dj\,\nzijn samenwerkingen met Flying Lotus en Gonjasufi\, zijn\nproducties en inspiraties… Dit allemaal onder leiding van\ngoede vriend en dj &#39;grand cru&#39; Lefto! Achteraf is er\nnog ruimte voor al je vragen.         De toegang is zoals\nsteeds gratis\, maar reserveren is verplicht. We beginnen er\nstipt om 18u aan\, dus je komt best op tijd. Inschrijven doe\nje via lukas@poppunt.be. Geef ons bij je inschrijving ook\ngerust de vragen mee die jij altijd al had willen stellen\naan The Gaslamp Killer wie weet stellen we ze daadwerkelijk.\nOh\, en wees er snel bij\, want er zijn slechts 50 plaatsen.\n        Reserveren: mailen naar lukas@poppunt.be (met de\nvermelding ‘Gaslamp’).
URL;VALUE=URI:https://www.abconcerts.be/nl/agenda/a-talk-with-the-gaslamp-killer/a105J000001wgr2QAA
UID:ABConcerts_event_286e58de-59a0-11eb-9a3a-5254eb761bff
SEQUENCE:0
DTSTAMP:20260419T151440Z
END:VEVENT
END:VCALENDAR
