BEGIN:VCALENDAR
VERSION:2.0
PRODID:-ABConcerts-events
METHOD:PUBLISH
BEGIN:VEVENT
TRANSP:OPAQUE
DTSTART:20130615T200000
DTEND:20130615T223000
SUMMARY:3 Doors Down + Prime Circle
LOCATION:AB Grote zaal (Anspachlaan 110\, 1000 Brussel)
DESCRIPTION:Op pad met alle greatest hits!
URL;VALUE=URI:https://www.abconcerts.be/nl/agenda/3-doors-down-prime-circle/a105J000001wgpkQAA
UID:ABConcerts_event_5a17f982-599e-11eb-8b8b-5254eb761bff
SEQUENCE:0
DTSTAMP:20260419T192021Z
END:VEVENT
END:VCALENDAR
