BEGIN:VCALENDAR
VERSION:2.0
PRODID:-ABConcerts-events
METHOD:PUBLISH
BEGIN:VEVENT
TRANSP:OPAQUE
DTSTART:20101031T200000
DTEND:20101031T223000
SUMMARY:Zap Mama
LOCATION:AB Flex (Anspachlaan 110\, 1000 Brussel)
DESCRIPTION:Zap Mama ! Une world pop chatoyante en provenance d&#39;\nAfropea ! Ceux qui ont déjà eu l&#39;occasion de voir Zap\nMama en concert savent combien leur musique a le don\nd’enthousiasmer les foules.Zap Mama\, c&#39;est avant tout\nMarie Daulne\, une artiste-née toujours prête à faire\njaillir la beauté de ses origines congolaises. C&#39;était\ndéjà le cas en 1990 dans la très originale version a\ncapella des Zap Mama\, mais c&#39;est encore plus flagrant\naujourd’hui\, sept albums plus tard\, au travers de ses\ncollaborations avec Erykah Badu sur &#39;Bandy Bandy&#39;\,\navec Michael Franti &amp; Spearhead sur &#39;High Low&#39;\,\navec Arno dans &#39;Toma Taboo&#39; ou encore dernièrement\navec Vincent - La Haine – Cassel dans &#39;Paroles\nParoles&#39; (le titre immortalisé par Dalida aux côtés\nd’Alain Delon).&#39;Iko Iko&#39; était\, par ailleurs\,\nune autre reprise très réussie. Sur &#39;ReCreation&#39;\,\nson dernier opus en date\, Marie Daulne prouve\, une fois\nencore\, qu&#39;elle est aussi capable d’écrire\nd&#39;excellentes chansons. Parmi les guests de l’album\,\nfigurent G Love\, Bilal et même Sylvie &amp; Sabine et Tom\nHelsen. A la fois cosmopolite\, sexy et engagé\, ce CD\ndonne l’impression d’avoir été enregistré aux quatre\ncoins du monde. De quoi nous donner envie de la retrouver en\nconcert. Découvrez ici l’exquise description qu&#39;en\noffre Marie Daulne\, en toute franchise sur Youtube. Tout\nbien considéré\, le temps ne serait-il pas venu pour une\ncompilation CD ?
URL;VALUE=URI:https://www.abconcerts.be/fr/agenda/zap-mama/a105J000001wgfJQAQ
UID:ABConcerts_event_301e0066-59a0-11eb-904e-5254eb761bff
SEQUENCE:0
DTSTAMP:20260421T194104Z
END:VEVENT
END:VCALENDAR
