BEGIN:VCALENDAR
VERSION:2.0
PRODID:-ABConcerts-events
METHOD:PUBLISH
BEGIN:VEVENT
TRANSP:OPAQUE
DTSTART:20160419T200000
DTEND:20160419T223000
SUMMARY:Xavier Rudd
LOCATION:AB Grote zaal (Anspachlaan 110\, 1000 Brussel)
DESCRIPTION:Avec son nouvel album en poche\, l’Australien revient nous\nréchauffer.
URL;VALUE=URI:https://www.abconcerts.be/fr/agenda/xavier-rudd/a105J000001wdXCQAY
UID:ABConcerts_event_b4379b32-59a0-11eb-b880-5254eb761bff
SEQUENCE:0
DTSTAMP:20260424T000951Z
END:VEVENT
END:VCALENDAR
