BEGIN:VCALENDAR
VERSION:2.0
PRODID:-ABConcerts-events
METHOD:PUBLISH
BEGIN:VEVENT
TRANSP:OPAQUE
DTSTART:20160602T183000
DTEND:20160602T223000
SUMMARY:#Workit - Make the movie of your life
LOCATION:AB Box (Anspachlaan 110\, 1000 Brussel)
DESCRIPTION:Décroche un job grâce à une formation en néerlandais!
URL;VALUE=URI:https://www.abconcerts.be/fr/agenda/workit-make-the-movie-of-your-life/a105J000001wgxbQAA
UID:ABConcerts_event_d76a4e34-599f-11eb-a9af-5254eb761bff
SEQUENCE:0
DTSTAMP:20260423T195449Z
END:VEVENT
END:VCALENDAR
